BEGIN:VCALENDAR
VERSION:2.0
PRODID:-//Six Bricks Nederland - ECPv6.15.20//NONSGML v1.0//EN
CALSCALE:GREGORIAN
METHOD:PUBLISH
X-WR-CALNAME:Six Bricks Nederland
X-ORIGINAL-URL:https://sixbricksnederland.nl
X-WR-CALDESC:Evenementen voor Six Bricks Nederland
REFRESH-INTERVAL;VALUE=DURATION:PT1H
X-Robots-Tag:noindex
X-PUBLISHED-TTL:PT1H
BEGIN:VTIMEZONE
TZID:UTC
BEGIN:STANDARD
TZOFFSETFROM:+0000
TZOFFSETTO:+0000
TZNAME:UTC
DTSTART:20250101T000000
END:STANDARD
END:VTIMEZONE
BEGIN:VEVENT
DTSTART;TZID=UTC:20260523T090000
DTEND;TZID=UTC:20260523T170000
DTSTAMP:20260421T103510
CREATED:20250918T141454Z
LAST-MODIFIED:20260104T101410Z
UID:651-1779526800-1779555600@sixbricksnederland.nl
SUMMARY:Six Bricks Basistraining
DESCRIPTION:Ontdek hoe je met zes DUPLO® blokjes spelenderwijs de ontwikkeling van kinderen stimuleert! In deze interactieve training leer je de basisprincipes en krijg je direct toepasbare activiteiten voor in de klas\, kinderopvang of thuis. \nBoek hier.
URL:https://sixbricksnederland.nl/agenda/six-bricks-basistraining-23-5/
LOCATION:The Comfort Zone\, Visseringlaan 19\, B3.01\, Rijswijk\, Zuid-Holland\, 2288 ER
CATEGORIES:Six Bricks Basistraining
ATTACH;FMTTYPE=image/jpeg:https://sixbricksnederland.nl/wp-content/uploads/2025/02/TMF-12-scaled.jpg
ORGANIZER;CN="Six Bricks Nederland":MAILTO:info@sixbricksnederland.nl
END:VEVENT
BEGIN:VEVENT
DTSTART;TZID=UTC:20260626T090000
DTEND;TZID=UTC:20260627T160000
DTSTAMP:20260421T103510
CREATED:20250227T130809Z
LAST-MODIFIED:20260104T135318Z
UID:565-1782464400-1782576000@sixbricksnederland.nl
SUMMARY:Six Bricks 2 daagse Specialisatietraining Executieve Functies
DESCRIPTION:Leer hoe je met zes DUPLO® blokjes op een speelse manier executieve functies zoals impulsbeheersing\, werkgeheugen en flexibiliteit versterkt. Deze training biedt direct toepasbare activiteiten voor in de klas\, kinderopvang of thuis. \nBoek hier.
URL:https://sixbricksnederland.nl/agenda/six-bricks-specialisatietraining-executieve-functies-dag-2-4/
LOCATION:The Comfort Zone\, Visseringlaan 19\, B3.01\, Rijswijk\, Zuid-Holland\, 2288 ER
CATEGORIES:Six Bricks Specialisatie training
ATTACH;FMTTYPE=image/jpeg:https://sixbricksnederland.nl/wp-content/uploads/2025/02/TMF-30-scaled.jpg
ORGANIZER;CN="Six Bricks Nederland":MAILTO:info@sixbricksnederland.nl
END:VEVENT
BEGIN:VEVENT
DTSTART;TZID=UTC:20260711T090000
DTEND;TZID=UTC:20260711T170000
DTSTAMP:20260421T103510
CREATED:20250227T130555Z
LAST-MODIFIED:20260104T101706Z
UID:559-1783760400-1783789200@sixbricksnederland.nl
SUMMARY:Six Bricks Basistraining
DESCRIPTION:Ontdek hoe je met zes DUPLO® blokjes spelenderwijs de ontwikkeling van kinderen stimuleert! In deze interactieve training leer je de basisprincipes en krijg je direct toepasbare activiteiten voor in de klas\, kinderopvang of thuis. \nBoek hier.
URL:https://sixbricksnederland.nl/agenda/six-bricks-basistraining-5/
LOCATION:The Comfort Zone\, Visseringlaan 19\, B3.01\, Rijswijk\, Zuid-Holland\, 2288 ER
CATEGORIES:Six Bricks Basistraining
ATTACH;FMTTYPE=image/jpeg:https://sixbricksnederland.nl/wp-content/uploads/2025/02/TMF-12-scaled.jpg
ORGANIZER;CN="Six Bricks Nederland":MAILTO:info@sixbricksnederland.nl
END:VEVENT
BEGIN:VEVENT
DTSTART;TZID=UTC:20260829T090000
DTEND;TZID=UTC:20260829T170000
DTSTAMP:20260421T103510
CREATED:20250227T125626Z
LAST-MODIFIED:20260104T102343Z
UID:548-1787994000-1788022800@sixbricksnederland.nl
SUMMARY:Six Bricks Basistraining
DESCRIPTION:Ontdek hoe je met zes DUPLO® blokjes spelenderwijs de ontwikkeling van kinderen stimuleert! In deze interactieve training leer je de basisprincipes en krijg je direct toepasbare activiteiten voor in de klas\, kinderopvang of thuis. \nBoek hier.
URL:https://sixbricksnederland.nl/agenda/six-bricks-basistraining-3/
LOCATION:The Comfort Zone\, Visseringlaan 19\, B3.01\, Rijswijk\, Zuid-Holland\, 2288 ER
CATEGORIES:Six Bricks Basistraining
ATTACH;FMTTYPE=image/jpeg:https://sixbricksnederland.nl/wp-content/uploads/2025/02/TMF-12-scaled.jpg
ORGANIZER;CN="Six Bricks Nederland":MAILTO:info@sixbricksnederland.nl
END:VEVENT
BEGIN:VEVENT
DTSTART;TZID=UTC:20260925T090000
DTEND;TZID=UTC:20260926T160000
DTSTAMP:20260421T103510
CREATED:20250227T130441Z
LAST-MODIFIED:20260104T134709Z
UID:557-1790326800-1790438400@sixbricksnederland.nl
SUMMARY:Six Bricks 2 daagse Specialisatietraining Executieve Functies
DESCRIPTION:Leer hoe je met zes DUPLO® blokjes op een speelse manier executieve functies zoals impulsbeheersing\, werkgeheugen en flexibiliteit versterkt. Deze training biedt direct toepasbare activiteiten voor in de klas\, kinderopvang of thuis. \nBoek hier.
URL:https://sixbricksnederland.nl/agenda/six-bricks-specialisatietraining-executieve-functies-dag-2-3/
LOCATION:The Comfort Zone\, Visseringlaan 19\, B3.01\, Rijswijk\, Zuid-Holland\, 2288 ER
CATEGORIES:Six Bricks Specialisatie training
ATTACH;FMTTYPE=image/jpeg:https://sixbricksnederland.nl/wp-content/uploads/2025/02/TMF-30-scaled.jpg
ORGANIZER;CN="Six Bricks Nederland":MAILTO:info@sixbricksnederland.nl
END:VEVENT
BEGIN:VEVENT
DTSTART;TZID=UTC:20261010T090000
DTEND;TZID=UTC:20261010T170000
DTSTAMP:20260421T103510
CREATED:20250227T125246Z
LAST-MODIFIED:20260104T102734Z
UID:541-1791622800-1791651600@sixbricksnederland.nl
SUMMARY:Six Bricks Basistraining
DESCRIPTION:Ontdek hoe je met zes DUPLO® blokjes spelenderwijs de ontwikkeling van kinderen stimuleert! In deze interactieve training leer je de basisprincipes en krijg je direct toepasbare activiteiten voor in de klas\, kinderopvang of thuis. \nBoek hier.
URL:https://sixbricksnederland.nl/agenda/six-bricks-basistraining-2/
LOCATION:The Comfort Zone\, Visseringlaan 19\, B3.01\, Rijswijk\, Zuid-Holland\, 2288 ER
CATEGORIES:Six Bricks Basistraining
ATTACH;FMTTYPE=image/jpeg:https://sixbricksnederland.nl/wp-content/uploads/2025/02/TMF-12-scaled.jpg
ORGANIZER;CN="Six Bricks Nederland":MAILTO:info@sixbricksnederland.nl
END:VEVENT
BEGIN:VEVENT
DTSTART;TZID=UTC:20261121T090000
DTEND;TZID=UTC:20261121T170000
DTSTAMP:20260421T103510
CREATED:20250227T124359Z
LAST-MODIFIED:20260104T104017Z
UID:534-1795251600-1795280400@sixbricksnederland.nl
SUMMARY:Six Bricks Basistraining
DESCRIPTION:Ontdek hoe je met zes DUPLO® blokjes spelenderwijs de ontwikkeling van kinderen stimuleert! In deze interactieve training leer je de basisprincipes en krijg je direct toepasbare activiteiten voor in de klas\, kinderopvang of thuis. \nBoek hier.
URL:https://sixbricksnederland.nl/agenda/six-bricks-basistraining/
LOCATION:The Comfort Zone\, Visseringlaan 19\, B3.01\, Rijswijk\, Zuid-Holland\, 2288 ER
CATEGORIES:Six Bricks Basistraining
ATTACH;FMTTYPE=image/jpeg:https://sixbricksnederland.nl/wp-content/uploads/2025/02/TMF-12-scaled.jpg
ORGANIZER;CN="Six Bricks Nederland":MAILTO:info@sixbricksnederland.nl
END:VEVENT
BEGIN:VEVENT
DTSTART;TZID=UTC:20261127T090000
DTEND;TZID=UTC:20261128T160000
DTSTAMP:20260421T103510
CREATED:20250227T130132Z
LAST-MODIFIED:20260104T135225Z
UID:555-1795770000-1795881600@sixbricksnederland.nl
SUMMARY:Six Bricks 2 daagse Specialisatietraining Executieve Functies
DESCRIPTION:Leer hoe je met zes DUPLO® blokjes op een speelse manier executieve functies zoals impulsbeheersing\, werkgeheugen en flexibiliteit versterkt. Deze training biedt direct toepasbare activiteiten voor in de klas\, kinderopvang of thuis. \nBoek hier.
URL:https://sixbricksnederland.nl/agenda/six-bricks-specialisatietraining-executieve-functies-dag-1-3/
LOCATION:The Comfort Zone\, Visseringlaan 19\, B3.01\, Rijswijk\, Zuid-Holland\, 2288 ER
CATEGORIES:Six Bricks Specialisatie training
ATTACH;FMTTYPE=image/jpeg:https://sixbricksnederland.nl/wp-content/uploads/2025/02/TMF-30-scaled.jpg
ORGANIZER;CN="Six Bricks Nederland":MAILTO:info@sixbricksnederland.nl
END:VEVENT
END:VCALENDAR